{"text_format":"2","workbook":"xlsx","n_sheets":3,"sheets":["Zeitblatt","Zuordnung Stunden","Dropdown"],"not_rendered":{"charts":0,"images":1,"macros":0,"external_links":0,"defined_names":2,"comments":1,"pivot_tables":0},"unopened":[],"bounds":{"document_bytes":16777216,"sheet_cells":100000,"run_cost":"one","rows_first":2000,"rows_last":500,"rows_between":2000,"halvings":0,"cell_chars":16384,"cell_head_chars":4096},"cells_cut":0,"cells_raw":0,"read":"whole","date_system":"1900"}

{"sheet":"Zeitblatt","index":0,"n_rows":99,"n_cols":33,"rows_kept":99,"cut":false,"hidden":false,"merged":[[49,30,49,31],[98,3,98,4],[98,5,98,6],[98,7,98,8],[98,9,98,10],[98,11,98,12],[98,13,98,14],[53,0,53,1],[1,4,1,6],[3,5,3,6],[3,8,3,9],[5,4,5,18],[47,18,47,19],[55,0,55,32],[49,0,49,3],[49,4,49,7],[50,0,50,3],[50,4,50,7],[51,0,51,3],[51,4,51,7],[48,30,48,31],[48,8,48,9],[48,10,48,11],[50,30,50,31],[50,26,50,27],[48,14,48,15],[48,16,48,17],[48,18,48,19],[48,20,48,21],[48,22,48,23],[49,20,49,21],[48,24,48,25],[50,20,50,21],[20,24,20,25],[21,24,21,25],[15,18,15,19],[16,18,16,19],[20,26,20,27],[21,26,21,27],[20,20,20,21],[47,24,47,25],[47,26,47,27],[16,26,16,27],[19,26,19,27],[18,24,18,25],[18,26,18,27],[15,26,15,27],[16,24,16,25],[19,24,19,25],[20,22,20,23],[21,22,21,23],[26,26,26,27],[41,26,41,27],[42,18,42,19],[46,20,46,21],[45,20,45,21],[43,22,43,23],[21,28,21,29],[15,30,15,31],[16,30,16,31],[19,30,19,31],[20,30,20,31],[21,30,21,31],[15,28,15,29],[16,28,16,29],[19,28,19,29],[20,28,20,29],[14,24,14,25],[12,30,12,31],[13,8,13,9],[13,10,13,11],[13,12,13,13],[13,14,13,15],[13,16,13,17],[13,18,13,19],[13,20,13,21],[13,22,13,23],[13,24,13,25],[13,26,13,27],[13,28,13,29],[13,30,13,31],[12,18,12,19],[12,26,12,27],[12,22,12,23],[12,20,12,21],[14,26,14,27],[14,28,14,29],[14,30,14,31],[14,8,14,9],[14,10,14,11],[14,12,14,13],[0,0,0,32],[10,8,10,32],[11,28,11,29],[11,30,11,31],[12,8,12,9],[15,8,15,9],[12,24,12,25],[15,24,15,25],[11,18,11,19],[11,20,11,21],[11,22,11,23],[11,24,11,25],[11,26,11,27],[11,8,11,9],[11,10,11,11],[11,12,11,13],[8,8,8,9],[12,10,12,11],[15,10,15,11],[12,14,12,15],[15,14,15,15],[12,12,12,13],[12,16,12,17],[12,28,12,29],[26,10,26,11],[26,12,26,13],[26,14,26,15],[26,16,26,17],[26,18,26,19],[26,20,26,21],[16,14,16,15],[19,14,19,15],[20,14,20,15],[21,14,21,15],[16,12,16,13],[17,12,17,13],[17,14,17,15],[19,10,19,11],[20,10,20,11],[21,10,21,11],[19,12,19,13],[21,20,21,21],[19,20,19,21],[16,16,16,17],[21,18,21,19],[20,18,20,19],[14,14,14,15],[14,16,14,17],[16,10,16,11],[14,18,14,19],[14,20,14,21],[14,22,14,23],[20,12,20,13],[21,12,21,13],[20,8,20,9],[21,8,21,9],[18,8,18,9],[18,10,18,11],[18,12,18,13],[18,14,18,15],[15,20,15,21],[16,20,16,21],[15,12,15,13],[19,8,19,9],[15,22,15,23],[16,22,16,23],[19,22,19,23],[16,8,16,9],[15,16,15,17],[19,18,19,19],[26,28,26,29],[26,30,26,31],[25,8,25,32],[27,28,27,29],[27,30,27,31],[28,8,28,9],[28,10,28,11],[28,12,28,13],[28,14,28,15],[28,16,28,17],[28,18,28,19],[28,20,28,21],[28,22,28,23],[28,24,28,25],[28,26,28,27],[28,28,28,29],[28,30,28,31],[27,18,27,19],[27,20,27,21],[27,22,27,23],[27,24,27,25],[26,22,26,23],[27,26,27,27],[27,16,27,17],[29,28,29,29],[29,30,29,31],[30,8,30,9],[30,10,30,11],[30,12,30,13],[30,14,30,15],[30,16,30,17],[30,18,30,19],[30,20,30,21],[30,22,30,23],[30,24,30,25],[30,26,30,27],[30,28,30,29],[30,30,30,31],[29,18,29,19],[29,20,29,21],[29,22,29,23],[29,26,29,27],[33,0,33,3],[33,4,33,7],[34,0,34,3],[34,4,34,7],[34,8,34,9],[34,10,34,11],[34,12,34,13],[34,14,34,15],[34,16,34,17],[33,8,33,9],[33,10,33,11],[33,12,33,13],[33,14,33,15],[33,16,33,17],[29,0,29,3],[29,4,29,7],[30,0,30,3],[30,4,30,7],[31,0,31,3],[31,4,31,7],[32,0,32,3],[32,4,32,7],[29,16,29,17],[29,12,29,13],[29,14,29,15],[31,8,31,9],[31,10,31,11],[31,12,31,13],[31,14,31,15],[31,16,31,17],[32,8,32,9],[32,10,32,11],[32,12,32,13],[32,14,32,15],[32,16,32,17],[29,8,29,9],[29,10,29,11],[31,28,31,29],[31,30,31,31],[36,18,36,19],[36,20,36,21],[36,22,36,23],[36,24,36,25],[36,26,36,27],[36,28,36,29],[36,30,36,31],[31,18,31,19],[31,20,31,21],[31,22,31,23],[31,24,31,25],[31,26,31,27],[33,18,33,19],[33,22,33,23],[33,24,33,25],[32,18,32,19],[32,20,32,21],[32,22,32,23],[32,24,32,25],[33,20,33,21],[35,18,35,19],[35,20,35,21],[41,28,41,29],[41,30,41,31],[40,8,40,32],[46,28,46,29],[46,30,46,31],[42,26,42,27],[42,28,42,29],[42,30,42,31],[44,14,44,15],[44,16,44,17],[44,18,44,19],[44,20,44,21],[44,22,44,23],[44,24,44,25],[44,26,44,27],[44,28,44,29],[44,30,44,31],[43,14,43,15],[43,16,43,17],[42,12,42,13],[42,14,42,15],[42,16,42,17],[43,30,43,31],[46,18,46,19],[43,18,43,19],[45,16,45,17],[43,26,43,27],[47,16,47,17],[45,26,45,27],[47,20,47,21],[47,22,47,23],[43,24,43,25],[45,18,45,19],[45,22,45,23],[45,24,45,25],[46,22,46,23],[46,24,46,25],[43,20,43,21],[47,14,47,15],[46,8,46,9],[46,10,46,11],[46,12,46,13],[46,14,46,15],[51,12,51,13],[51,14,51,15],[45,28,45,29],[45,30,45,31],[46,26,46,27],[47,30,47,31],[47,28,47,29],[46,16,46,17],[51,30,51,31],[48,26,48,27],[48,28,48,29],[51,26,51,27],[51,28,51,29],[49,22,49,23],[49,24,49,25],[49,26,49,27],[49,28,49,29],[50,22,50,23],[50,24,50,25],[51,16,51,17],[49,8,49,9],[49,10,49,11],[49,12,49,13],[49,18,49,19],[51,8,51,9],[51,10,51,11],[51,18,51,19],[50,18,50,19],[50,10,50,11],[50,12,50,13],[50,14,50,15],[50,16,50,17],[50,8,50,9],[49,14,49,15],[49,16,49,17],[41,18,41,19],[41,20,41,21],[41,22,41,23],[41,24,41,25],[34,18,34,19],[41,8,41,9],[41,10,41,11],[41,12,41,13],[41,14,41,15],[36,16,36,17],[41,16,41,17],[38,8,38,9],[27,0,27,3],[27,4,27,7],[28,0,28,3],[28,4,28,7],[17,18,17,19],[18,18,18,19],[23,8,23,9],[27,8,27,9],[27,10,27,11],[27,12,27,13],[27,14,27,15],[17,16,17,17],[19,0,19,3],[17,8,17,9],[17,10,17,11],[20,0,20,3],[21,0,21,3],[21,4,21,7],[19,4,19,7],[20,4,20,7],[25,0,26,3],[25,4,26,7],[26,8,26,9],[18,16,18,17],[42,0,42,3],[42,4,42,7],[43,0,43,3],[43,4,43,7],[44,0,44,3],[44,4,44,7],[45,4,45,7],[36,14,36,15],[36,8,36,9],[36,10,36,11],[36,12,36,13],[44,8,44,9],[42,10,42,11],[43,8,43,9],[43,10,43,11],[42,8,42,9],[45,8,45,9],[45,10,45,11],[44,12,44,13],[45,12,45,13],[43,12,43,13],[44,10,44,11],[35,4,35,7],[35,8,35,9],[35,10,35,11],[35,12,35,13],[35,14,35,15],[35,0,35,3],[36,0,36,3],[36,4,36,7],[40,0,41,3],[40,4,41,7],[10,0,11,3],[12,0,12,3],[13,0,13,3],[14,0,14,3],[15,0,15,3],[16,0,16,3],[17,0,17,3],[18,0,18,3],[13,4,13,7],[14,4,14,7],[15,4,15,7],[16,4,16,7],[17,4,17,7],[18,4,18,7],[10,4,11,7],[12,4,12,7],[65,14,65,15],[65,16,65,17],[65,18,65,19],[65,20,65,21],[63,22,63,23],[63,24,63,25],[63,26,63,27],[63,28,63,29],[60,8,60,9],[63,14,63,15],[63,16,63,17],[63,18,63,19],[63,20,63,21],[64,14,64,15],[64,16,64,17],[64,18,64,19],[64,20,64,21],[51,20,51,21],[51,22,51,23],[51,24,51,25],[61,14,61,15],[61,16,61,17],[59,0,60,3],[59,4,60,7],[59,8,59,32],[48,0,48,3],[48,4,48,7],[60,10,60,11],[60,12,60,13],[60,14,60,15],[60,16,60,17],[60,18,60,19],[60,20,60,21],[60,22,60,23],[60,24,60,25],[60,26,60,27],[60,28,60,29],[60,30,60,31],[57,8,57,9],[61,22,61,23],[61,24,61,25],[46,4,46,7],[47,0,47,3],[89,0,89,12],[47,4,47,7],[46,0,46,3],[47,8,47,9],[47,10,47,11],[47,12,47,13],[48,12,48,13],[63,0,63,3],[63,4,63,7],[63,8,63,9],[63,10,63,11],[63,12,63,13],[64,0,64,3],[64,4,64,7],[64,8,64,9],[64,10,64,11],[64,12,64,13],[65,0,65,3],[65,4,65,7],[65,8,65,9],[65,10,65,11],[65,12,65,13],[92,3,92,4],[93,3,93,4],[92,5,92,6],[92,7,92,8],[93,5,93,6],[93,7,93,8],[45,0,45,3],[32,28,32,29],[32,30,32,31],[33,26,33,27],[33,28,33,29],[33,30,33,31],[34,20,34,21],[34,22,34,23],[34,24,34,25],[34,26,34,27],[34,28,34,29],[34,30,34,31],[35,22,35,23],[35,24,35,25],[35,26,35,27],[35,28,35,29],[35,30,35,31],[32,26,32,27],[11,14,11,15],[11,16,11,17],[43,28,43,29],[50,28,50,29],[17,24,17,25],[17,26,17,27],[17,28,17,29],[17,30,17,31],[17,20,17,21],[17,22,17,23],[18,20,18,21],[18,22,18,23],[18,28,18,29],[18,30,18,31],[42,20,42,21],[42,22,42,23],[42,24,42,25],[29,24,29,25],[19,16,19,17],[20,16,20,17],[21,16,21,17],[26,24,26,25],[35,16,35,17],[45,14,45,15],[61,30,61,31],[62,0,62,3],[62,4,62,7],[62,8,62,9],[62,10,62,11],[62,12,62,13],[62,14,62,15],[62,16,62,17],[62,18,62,19],[62,20,62,21],[62,22,62,23],[62,24,62,25],[62,26,62,27],[62,28,62,29],[62,30,62,31],[61,0,61,3],[61,4,61,7],[61,8,61,9],[61,10,61,11],[61,12,61,13],[61,18,61,19],[61,20,61,21],[61,26,61,27],[61,28,61,29],[63,30,63,31],[64,22,64,23],[64,24,64,25],[64,26,64,27],[64,28,64,29],[64,30,64,31],[65,22,65,23],[65,24,65,25],[65,26,65,27],[65,28,65,29],[65,30,65,31],[66,0,66,3],[66,4,66,7],[66,8,66,9],[66,10,66,11],[66,12,66,13],[67,14,67,15],[67,16,67,17],[67,18,67,19],[67,20,67,21],[66,22,66,23],[66,24,66,25],[66,26,66,27],[66,28,66,29],[66,30,66,31],[66,14,66,15],[66,16,66,17],[66,18,66,19],[66,20,66,21],[69,24,69,25],[69,26,69,27],[69,28,69,29],[69,30,69,31],[68,0,68,3],[68,4,68,7],[68,8,68,9],[68,10,68,11],[68,12,68,13],[68,14,68,15],[68,16,68,17],[68,18,68,19],[68,20,68,21],[67,22,67,23],[67,24,67,25],[67,26,67,27],[67,28,67,29],[67,30,67,31],[68,22,68,23],[68,24,68,25],[68,26,68,27],[68,28,68,29],[68,30,68,31],[70,22,70,23],[70,24,70,25],[70,26,70,27],[70,28,70,29],[70,30,70,31],[69,0,69,3],[69,4,69,7],[69,8,69,9],[69,10,69,11],[69,12,69,13],[70,0,70,3],[70,4,70,7],[70,8,70,9],[70,10,70,11],[70,12,70,13],[70,14,70,15],[70,16,70,17],[70,18,70,19],[70,20,70,21],[69,14,69,15],[69,16,69,17],[69,18,69,19],[69,20,69,21],[69,22,69,23],[76,14,76,15],[76,16,76,17],[76,18,76,19],[76,20,76,21],[72,8,72,9],[74,0,75,3],[74,4,75,7],[74,8,74,32],[75,8,75,9],[75,10,75,11],[75,12,75,13],[75,14,75,15],[75,16,75,17],[75,18,75,19],[75,20,75,21],[75,22,75,23],[75,24,75,25],[75,26,75,27],[75,28,75,29],[75,30,75,31],[76,22,76,23],[76,24,76,25],[76,26,76,27],[76,28,76,29],[78,0,78,3],[78,4,78,7],[78,8,78,9],[78,10,78,11],[78,12,78,13],[78,14,78,15],[78,16,78,17],[78,18,78,19],[78,20,78,21],[77,0,77,3],[77,4,77,7],[77,8,77,9],[77,10,77,11],[77,12,77,13],[77,14,77,15],[77,16,77,17],[77,18,77,19],[77,20,77,21],[76,30,76,31],[77,22,77,23],[77,24,77,25],[77,26,77,27],[77,28,77,29],[77,30,77,31],[79,22,79,23],[79,24,79,25],[79,26,79,27],[79,28,79,29],[79,30,79,31],[78,22,78,23],[78,24,78,25],[78,26,78,27],[78,28,78,29],[78,30,78,31],[79,0,79,3],[79,4,79,7],[79,8,79,9],[79,10,79,11],[79,12,79,13],[79,14,79,15],[79,16,79,17],[79,18,79,19],[79,20,79,21],[81,14,81,15],[81,16,81,17],[81,18,81,19],[81,20,81,21],[80,0,80,3],[80,4,80,7],[80,8,80,9],[80,10,80,11],[80,12,80,13],[80,14,80,15],[80,16,80,17],[80,18,80,19],[80,24,80,25],[80,26,80,27],[80,20,80,21],[80,28,80,29],[82,22,82,23],[82,24,82,25],[82,26,82,27],[82,28,82,29],[82,30,82,31],[80,30,80,31],[81,22,81,23],[81,24,81,25],[81,26,81,27],[81,28,81,29],[81,30,81,31],[80,22,80,23],[82,14,82,15],[82,16,82,17],[82,18,82,19],[82,20,82,21],[83,0,83,3],[83,4,83,7],[83,8,83,9],[83,10,83,11],[83,12,83,13],[83,14,83,15],[83,16,83,17],[83,18,83,19],[83,20,83,21],[84,22,84,23],[84,24,84,25],[84,26,84,27],[84,28,84,29],[84,30,84,31],[83,22,83,23],[83,24,83,25],[83,26,83,27],[83,28,83,29],[83,30,83,31],[95,3,95,4],[95,5,95,6],[54,0,54,1],[81,0,81,3],[81,4,81,7],[81,8,81,9],[81,10,81,11],[81,12,81,13],[85,30,85,31],[84,0,84,3],[84,4,84,7],[84,8,84,9],[84,10,84,11],[84,12,84,13],[84,14,84,15],[84,16,84,17],[84,18,84,19],[84,20,84,21],[85,0,85,3],[85,4,85,7],[85,8,85,9],[85,10,85,11],[85,12,85,13],[85,14,85,15],[1,0,1,1],[3,0,3,1],[91,0,92,2],[93,0,93,2],[92,9,92,10],[92,11,92,12],[93,9,93,10],[93,11,93,12],[94,11,94,12],[82,0,82,3],[82,4,82,7],[82,8,82,9],[82,10,82,11],[82,12,82,13],[76,0,76,3],[76,4,76,7],[76,8,76,9],[76,10,76,11],[76,12,76,13],[67,0,67,3],[67,4,67,7],[67,8,67,9],[67,10,67,11],[67,12,67,13],[97,13,97,14],[91,3,91,14],[98,18,98,29],[96,0,96,2],[96,3,96,4],[96,5,96,6],[96,7,96,8],[96,9,96,10],[96,11,96,12],[97,0,97,2],[97,3,97,4],[97,5,97,6],[97,7,97,8],[97,9,97,10],[97,11,97,12],[94,0,94,2],[94,3,94,4],[94,5,94,6],[94,7,94,8],[94,9,94,10],[95,7,95,8],[95,9,95,10],[95,11,95,12],[95,0,95,2],[89,16,89,27],[91,16,93,21],[96,19,96,30],[92,13,92,14],[93,13,93,14],[94,13,94,14],[95,13,95,14],[96,13,96,14],[85,22,85,23],[85,24,85,25],[85,26,85,27],[85,28,85,29],[85,16,85,17],[85,18,85,19],[85,20,85,21]]}
["Zeitblatt"]
["Innovationsprojekt"]
[]
["Berichtsperiode",null,null,null,"von",null,null,"bis"]
[]
["Forschungsstätte"]
[]
[]
["Projektjahr"]
[]
["Name und Vorname",null,null,null,"Personalfunktion",null,null,null,"Geleistete Stunden"]
[{"$nulls":8},"JAN",null,"FEB",null,"MRZ",null,"APR",null,"MAI",null,"JUN",null,"JUL",null,"AUG",null,"SEP",null,"OKT",null,"NOV",null,"DEZ",null,"Total"]
[{"$nulls":32},{"$f":"SUM(I13:AF13)","v":0}]
[{"$nulls":32},{"$f":"SUM(I14:AF14)","v":0}]
[{"$nulls":32},0]
[{"$nulls":32},{"$f":"SUM(I16:AF16)","v":0}]
[{"$nulls":32},0]
[{"$nulls":32},0]
[{"$nulls":32},0]
[{"$nulls":32},0]
[{"$nulls":32},0]
[{"$nulls":32},0]
[{"$nulls":31},"Total",{"$f":"SUM(AG13:AG22)","v":0}]
["Projektjahr"]
[]
["Name und Vorname",null,null,null,"Personalfunktion",null,null,null,"Geleistete Stunden"]
[{"$nulls":8},"JAN",null,"FEB",null,"MRZ",null,"APR",null,"MAI",null,"JUN",null,"JUL",null,"AUG",null,"SEP",null,"OKT",null,"NOV",null,"DEZ",null,"Total"]
[{"$nulls":32},{"$f":"SUM(I28:AF28)","v":0}]
[{"$nulls":32},{"$f":"SUM(I29:AF29)","v":0}]
[{"$nulls":32},0]
[{"$nulls":32},0]
[{"$nulls":32},0]
[{"$nulls":32},0]
[{"$nulls":32},0]
[{"$nulls":32},0]
[{"$nulls":32},0]
[{"$nulls":32},0]
[{"$nulls":31},"Total",{"$f":"SUM(AG28:AG37)","v":0}]
["Projektjahr"]
[]
["Name und Vorname",null,null,null,"Personalfunktion",null,null,null,"Geleistete Stunden"]
[{"$nulls":8},"JAN",null,"FEB",null,"MRZ",null,"APR",null,"MAI",null,"JUN",null,"JUL",null,"AUG",null,"SEP",null,"OKT",null,"NOV",null,"DEZ",null,"Total"]
[{"$nulls":32},{"$f":"SUM(I43:AF43)","v":0}]
[{"$nulls":32},{"$f":"SUM(I44:AF44)","v":0}]
[{"$nulls":32},0]
[{"$nulls":32},0]
[{"$nulls":32},0]
[{"$nulls":32},0]
[{"$nulls":32},0]
[{"$nulls":32},0]
[{"$nulls":32},0]
[{"$nulls":32},0]
[{"$nulls":31},"Total",{"$f":"SUM(AG43:AG52)","v":0}]
[{"$f":"A2","v":"Innovationsprojekt"}]
[{"$f":"E2","v":0}]
["Zeitblatt"]
[]
["Projektjahr"]
[]
["Name und Vorname",null,null,null,"Personalfunktion",null,null,null,"Geleistete Stunden"]
[{"$nulls":8},"JAN",null,"FEB",null,"MRZ",null,"APR",null,"MAI",null,"JUN",null,"JUL",null,"AUG",null,"SEP",null,"OKT",null,"NOV",null,"DEZ",null,"Total"]
[{"$nulls":32},{"$f":"SUM(I62:AF62)","v":0}]
[{"$nulls":32},{"$f":"SUM(I63:AF63)","v":0}]
[{"$nulls":32},0]
[{"$nulls":32},0]
[{"$nulls":32},0]
[{"$nulls":32},0]
[{"$nulls":32},0]
[{"$nulls":32},0]
[{"$nulls":32},0]
[{"$nulls":32},0]
[{"$nulls":31},"Total",{"$f":"SUM(AG62:AG71)","v":0}]
["Projektjahr"]
[]
["Name und Vorname",null,null,null,"Personalfunktion",null,null,null,"Geleistete Stunden"]
[{"$nulls":8},"JAN",null,"FEB",null,"MRZ",null,"APR",null,"MAI",null,"JUN",null,"JUL",null,"AUG",null,"SEP",null,"OKT",null,"NOV",null,"DEZ",null,"Total"]
[{"$nulls":32},{"$f":"SUM(I77:AF77)","v":0}]
[{"$nulls":32},{"$f":"SUM(I78:AF78)","v":0}]
[{"$nulls":32},0]
[{"$nulls":32},0]
[{"$nulls":32},0]
[{"$nulls":32},0]
[{"$nulls":32},0]
[{"$nulls":32},0]
[{"$nulls":32},0]
[{"$nulls":32},0]
[{"$nulls":31},"Total",{"$f":"SUM(AG77:AG86)","v":0}]
[]
[]
["Total geleistete Stunden je Personalfunktion und Projektjahr",{"$nulls":15},"Übertrag der geleisteten Stunden"]
[]
["Personalfunktion",null,null,"Stunden pro Projektjahr",{"$nulls":12},"Die jährlich geleisteten Stunden sind ins Tabellenblatt \"kalkulatorische Stundensätze\" des finanziellen Berichts zu übertragen."]
[null,null,null,{"$f":"B9","v":0},null,{"$f":"B24","v":0},null,{"$f":"B39","v":0},null,{"$f":"B58","v":0},null,{"$f":"B73","v":0},null,"Total"]
["Institutsleiter/In, Departementsleiter/In",null,null,{"$f":"'Zuordnung Stunden'!C4","v":0},null,{"$f":"'Zuordnung Stunden'!C5","v":0},null,{"$f":"'Zuordnung Stunden'!C6","v":0},null,{"$f":"'Zuordnung Stunden'!C7","v":0},null,{"$f":"'Zuordnung Stunden'!C8","v":0},null,{"$f":"D94+F94+H94+J94+L94","v":0}]
["Erf. Wissenschaftler/In, Teamleiter/In",null,null,{"$f":"'Zuordnung Stunden'!C11","v":0},null,{"$f":"'Zuordnung Stunden'!C12","v":0},null,{"$f":"'Zuordnung Stunden'!C13","v":0},null,{"$f":"'Zuordnung Stunden'!C14","v":0},null,{"$f":"'Zuordnung Stunden'!C15","v":0},null,{"$f":"D95+F95+H95+J95+L95","v":0}]
["wissenschaftliche/r Mitarbeiter/In",null,null,{"$f":"'Zuordnung Stunden'!C18","v":0},null,{"$f":"'Zuordnung Stunden'!C19","v":0},null,{"$f":"'Zuordnung Stunden'!C20","v":0},null,{"$f":"'Zuordnung Stunden'!C21","v":0},null,{"$f":"'Zuordnung Stunden'!C22","v":0},null,0]
["Fachmitarbeiter/In",null,null,{"$f":"'Zuordnung Stunden'!C25","v":0},null,{"$f":"'Zuordnung Stunden'!C26","v":0},null,{"$f":"'Zuordnung Stunden'!C27","v":0},null,{"$f":"'Zuordnung Stunden'!C28","v":0},null,{"$f":"'Zuordnung Stunden'!C29","v":0},null,0]
["Doktorand/In, Hilfskraft",null,null,{"$f":"'Zuordnung Stunden'!C32","v":0},null,{"$f":"'Zuordnung Stunden'!C33","v":0},null,{"$f":"'Zuordnung Stunden'!C34","v":0},null,{"$f":"'Zuordnung Stunden'!C35","v":0},null,{"$f":"'Zuordnung Stunden'!C36","v":0},null,0]
[null,null,"Total   ",{"$f":"SUM(D94:E98)","v":0},null,{"$f":"SUM(F94:G98)","v":0},null,{"$f":"SUM(H94:I98)","v":0},null,{"$f":"SUM(J94:K98)","v":0},null,{"$f":"SUM(L94:M98)","v":0},null,{"$f":"SUM(N94:O98)","v":0}]

{"sheet":"Zuordnung Stunden","index":1,"n_rows":37,"n_cols":3,"rows_kept":37,"cut":false,"hidden":true,"merged":[]}
["Zuordnung Stunden zu Personalfunktion"]
[]
["Personalfunktion","Projektjahr","Stunden"]
["Institutsleiter/in, Departementsleiter/in",1,{"$f":"SUMIF(Zeitblatt!$E$13:'Zeitblatt'!$E$22,Dropdown!$A3,Zeitblatt!AG$13:AG$22)","v":0}]
["Institutsleiter/in, Departementsleiter/in",2,{"$f":"SUMIF(Zeitblatt!$E$28:'Zeitblatt'!$E$37,Dropdown!$A3,Zeitblatt!AG$28:AG$37)","v":0}]
["Institutsleiter/in, Departementsleiter/in",3,{"$f":"SUMIF(Zeitblatt!$E$43:'Zeitblatt'!$E$52,Dropdown!$A3,Zeitblatt!AG$43:AG$52)","v":0}]
["Institutsleiter/in, Departementsleiter/in",4,{"$f":"SUMIF(Zeitblatt!$E$62:'Zeitblatt'!$E$71,Dropdown!$A3,Zeitblatt!AG$62:AG$71)","v":0}]
["Institutsleiter/in, Departementsleiter/in",5,{"$f":"SUMIF(Zeitblatt!$E$77:'Zeitblatt'!$E$86,Dropdown!$A3,Zeitblatt!AG$77:AG$86)","v":0}]
[null,null,{"$f":"SUM(C4:C8)","v":0}]
[]
["Erfahrener Wissenschaftler, Teamleiter/in",1,{"$f":"SUMIF(Zeitblatt!$E$13:'Zeitblatt'!$E$22,Dropdown!$A4,Zeitblatt!AG$13:AG$22)","v":0}]
["Erfahrener Wissenschaftler, Teamleiter/in",2,{"$f":"SUMIF(Zeitblatt!$E$28:'Zeitblatt'!$E$37,Dropdown!$A4,Zeitblatt!AG$28:AG$37)","v":0}]
["Erfahrener Wissenschaftler, Teamleiter/in",3,{"$f":"SUMIF(Zeitblatt!$E$43:'Zeitblatt'!$E$52,Dropdown!$A4,Zeitblatt!AG$43:AG$52)","v":0}]
["Erfahrener Wissenschaftler, Teamleiter/in",4,{"$f":"SUMIF(Zeitblatt!$E$62:'Zeitblatt'!$E$71,Dropdown!$A4,Zeitblatt!AG$62:AG$71)","v":0}]
["Erfahrener Wissenschaftler, Teamleiter/in",5,{"$f":"SUMIF(Zeitblatt!$E$77:'Zeitblatt'!$E$86,Dropdown!$A4,Zeitblatt!AG$77:AG$86)","v":0}]
[null,null,{"$f":"SUM(C11:C15)","v":0}]
[]
["Wissenschaftliche/r Mitarbeiter/in",1,{"$f":"SUMIF(Zeitblatt!$E$13:'Zeitblatt'!$E$22,Dropdown!$A5,Zeitblatt!AG$13:AG$22)","v":0}]
["Wissenschaftliche/r Mitarbeiter/in",2,{"$f":"SUMIF(Zeitblatt!$E$28:'Zeitblatt'!$E$37,Dropdown!$A5,Zeitblatt!AG$28:AG$37)","v":0}]
["Wissenschaftliche/r Mitarbeiter/in",3,{"$f":"SUMIF(Zeitblatt!$E$43:'Zeitblatt'!$E$52,Dropdown!$A5,Zeitblatt!AG$43:AG$52)","v":0}]
["Wissenschaftliche/r Mitarbeiter/in",4,{"$f":"SUMIF(Zeitblatt!$E$62:'Zeitblatt'!$E$71,Dropdown!$A5,Zeitblatt!AG$62:AG$71)","v":0}]
["Wissenschaftliche/r Mitarbeiter/in",5,{"$f":"SUMIF(Zeitblatt!$E$77:'Zeitblatt'!$E$86,Dropdown!$A5,Zeitblatt!AG$77:AG$86)","v":0}]
[null,null,{"$f":"SUM(C18:C22)","v":0}]
[]
["Fachmitarbeiter/in",1,{"$f":"SUMIF(Zeitblatt!$E$13:'Zeitblatt'!$E$22,Dropdown!$A6,Zeitblatt!AG$13:AG$22)","v":0}]
["Fachmitarbeiter/in",2,{"$f":"SUMIF(Zeitblatt!$E$28:'Zeitblatt'!$E$37,Dropdown!$A6,Zeitblatt!AG$28:AG$37)","v":0}]
["Fachmitarbeiter/in",3,{"$f":"SUMIF(Zeitblatt!$E$43:'Zeitblatt'!$E$52,Dropdown!$A6,Zeitblatt!AG$43:AG$52)","v":0}]
["Fachmitarbeiter/in",4,{"$f":"SUMIF(Zeitblatt!$E$62:'Zeitblatt'!$E$71,Dropdown!$A6,Zeitblatt!AG$62:AG$71)","v":0}]
["Fachmitarbeiter/in",5,{"$f":"SUMIF(Zeitblatt!$E$77:'Zeitblatt'!$E$86,Dropdown!$A6,Zeitblatt!AG$77:AG$86)","v":0}]
[null,null,{"$f":"SUM(C25:C29)","v":0}]
[]
["Doktorand/in und Hilfskraft",1,{"$f":"SUMIF(Zeitblatt!$E$13:'Zeitblatt'!$E$22,Dropdown!$A7,Zeitblatt!AG$13:AG$22)","v":0}]
["Doktorand/in und Hilfskraft",2,{"$f":"SUMIF(Zeitblatt!$E$28:'Zeitblatt'!$E$37,Dropdown!$A7,Zeitblatt!AG$28:AG$37)","v":0}]
["Doktorand/in und Hilfskraft",3,{"$f":"SUMIF(Zeitblatt!$E$43:'Zeitblatt'!$E$52,Dropdown!$A7,Zeitblatt!AG$43:AG$52)","v":0}]
["Doktorand/in und Hilfskraft",4,{"$f":"SUMIF(Zeitblatt!$E$62:'Zeitblatt'!$E$71,Dropdown!$A7,Zeitblatt!AG$62:AG$71)","v":0}]
["Doktorand/in und Hilfskraft",5,{"$f":"SUMIF(Zeitblatt!$E$77:'Zeitblatt'!$E$86,Dropdown!$A7,Zeitblatt!AG$77:AG$86)","v":0}]
[null,null,{"$f":"SUM(C32:C36)","v":0}]

{"sheet":"Dropdown","index":2,"n_rows":7,"n_cols":1,"rows_kept":7,"cut":false,"hidden":true,"merged":[]}
["Personalfunktion"]
[]
["Institutsleiter/In, Departementsleiter/In"]
["Erf. Wissenschaftler/In, Teamleiter/In"]
["Wissenschaftliche/r Mitarbeiter/In"]
["Fachmitarbeiter/In"]
["Doktorand/In und Hilfskraft"]